BEGIN:VCALENDAR
VERSION:2.0
CALSCALE:GREGORIAN
METHOD:PUBLISH
X-WR-TIMEZONE:Australia/Sydney
BEGIN:VTIMEZONE
TZID:Australia/Sydney
BEGIN:STANDARD
TZNAME:AEST
END:STANDARD
END:VTIMEZONE
BEGIN:VEVENT
DTSTART;TZID=Australia/Sydney:20240826
DTEND;TZID=Australia/Sydney:20240826
RRULE:FREQ=WEEKLY;UNTIL=20240906T000000;BYDAY=MO,TU,WE,TH,FR
DTSTAMP:20260420T184155
UID:2573
SUMMARY:Y3 Swimming
DESCRIPTION:







SEQUENCE:0
STATUS:CONFIRMED
TRANSP:OPAQUE
END:VEVENT
END:VCALENDAR